BEGIN:VCALENDAR
VERSION:2.0
PRODID:-//eventon.com NONSGML v1.0//EN
CALSCALE:GREGORIAN
METHOD:PUBLISH
BEGIN:VEVENT
UID:69e655407ea87
DTSTAMP:20260420T163304Z
DTSTART:20221110T163400Z
DTEND:20221110T235000Z
LOCATION:
SUMMARY:Biobrotboxen
DESCRIPTION:für die 1. Klassen\nhttps://www.gs-carl-orff.de/events/biobrot
 boxen/
URL:https://www.gs-carl-orff.de/events/biobrotboxen/
END:VEVENT
END:VCALENDAR