BEGIN:VCALENDAR
VERSION:2.0
PRODID:-//eventon.com NONSGML v1.0//EN
CALSCALE:GREGORIAN
METHOD:PUBLISH
BEGIN:VEVENT
UID:69e4e03500980
DTSTAMP:20260419T140125Z
DTSTART:20230705
DTEND:20230706
LOCATION:
SUMMARY:Realverkehr 4c\,  4d
DESCRIPTION:Realverkehr 4c\,  4d\nhttps://www.gs-carl-orff.de/events/realve
 rkehr-4c-4d/
URL:https://www.gs-carl-orff.de/events/realverkehr-4c-4d/
END:VEVENT
END:VCALENDAR